BEGIN:VCALENDAR
VERSION:2.0
PRODID:-//Stand Up Magazin - ECPv6.10.2//NONSGML v1.0//EN
CALSCALE:GREGORIAN
METHOD:PUBLISH
X-WR-CALNAME:Stand Up Magazin
X-ORIGINAL-URL:https://standupmagazin.com
X-WR-CALDESC:Eventos para Stand Up Magazin
REFRESH-INTERVAL;VALUE=DURATION:PT1H
X-Robots-Tag:noindex
X-PUBLISHED-TTL:PT1H
BEGIN:VTIMEZONE
TZID:Europe/Berlin
BEGIN:DAYLIGHT
TZOFFSETFROM:+0100
TZOFFSETTO:+0200
TZNAME:CEST
DTSTART:20260329T010000
END:DAYLIGHT
BEGIN:STANDARD
TZOFFSETFROM:+0200
TZOFFSETTO:+0100
TZNAME:CET
DTSTART:20261025T010000
END:STANDARD
END:VTIMEZONE
BEGIN:VTIMEZONE
TZID:America/Denver
BEGIN:DAYLIGHT
TZOFFSETFROM:-0700
TZOFFSETTO:-0600
TZNAME:MDT
DTSTART:20260308T090000
END:DAYLIGHT
BEGIN:STANDARD
TZOFFSETFROM:-0600
TZOFFSETTO:-0700
TZNAME:MST
DTSTART:20261101T080000
END:STANDARD
END:VTIMEZONE
BEGIN:VEVENT
DTSTART;TZID=Europe/Berlin:20260522T080000
DTEND;TZID=Europe/Berlin:20260524T170000
DTSTAMP:20260420T145024
CREATED:20241204T205623Z
LAST-MODIFIED:20260122T230431Z
UID:40700-1779436800-1779642000@standupmagazin.com
SUMMARY:Eckernförder SUP Sprottenrennen
DESCRIPTION:22.05.2026  100m Funrace für Isups Amateure  \n\n23.05.2026 mit 200m Sprint und 1km Techrace.\n\n24.05.2026  Longdistance Das Ziel der Veranstaltung ist die Förderung des SUP-Sports und des fairen Sportgeistes. Für die Teilnehmenden gibt es leichte Getränke & Snacks Wir helfen gerne bei der Suche von Unterkunft jeglicher Art. Sponsoren und HelferInnen sind jeder Zeit willkommen! Zeiterfassung: Nur bei den Finalläufen einzelne Zeitnahme. Getrennte Gesamtwertung M/W in Altersklassen. Die Ergebnislisten der Wettkämpfe werden bei SUP WORLD RANKING gemeldet. Maximale zulässige Boardlänge: 14\,0 Fuss. Markierter Boardparkplatz auf Rasenfläche am Ufer Die Siegerehrungen finden im Anschluss nach Beendigung des letzten Rennens des Tages statt!Parkplätze finden sich entlang des Borbyer Ufers\, Jungmannufer\, gegenüber Segelclub Eckernförde\, Marktplatz in der Bergstrasse\, Parkplatz Borbyer KircheCampingplätze Hemmelmark\, Karlsminde\, Grönwohld Das Reglement SPRINT Gefahren wird ein 200m Sprint von A nach B ohne Richtungswechsel mit Wasserstart. Der Starterfolgt stehend zwischen den beiden gelben Bojen\, die imaginäre Ziellinie befindet sich zwischenden beiden roten Bojen. Die Startplatzierung wird ausgelost. Bevor das Startsignal (Horn) ertönt\,achtet die Rennleitung darauf\, dass kein Teilnehmender die imaginäre Startlinie mit der Boardspitze überragt und gibt ggf. Anweisungen per Megaphon.Offene Wertung: Damen\, Herren\, Masters A B C\, Jugend U14-18. Eine Wertung kommt zustande\,wenn mindestens fünf Teilnehmende der Altersklasse am Start sind.  Damen Der 200m Sprint wird vorrausichtlich mit 4-6 Startern pro Heat ausgetragen. Jede Teilnehmerin fährt in 2 Heats bei denen die gepaddelte Zeit(!) summiert wird (die Platzierung zählt NICHT). Die Zeiten aus den 2 Heats werden addiert. Die schnellsten 5 qualifizieren sich für das A- Finale. Die Plätze 6 bis10 aus den 2 Heats starten im B- Finale. Finale wird nach Platzierung gewertet. Herren Der 200m Sprint wird vorrausichtlich mit 4-6 Startern pro Heat ausgetragen. Jeder Teilnehmer fährtin 2 Heats bei denen die gepaddelte Zeit(!) summiert wird (die Platzierung zählt NICHT). Die Zeiten aus den 2 Heats werden addiert. Die schnellsten 5 qualifizieren sich für das A- Finale. Die Plätze 6 bis10 aus den 2 Heats starten im B- Finale. Finale wird nach Platzierung gewertet. Kidz Der 200m Sprint wird vorrausichtlich mit 4-6 Startern pro Heat ausgetragen. Jeder Teilnehmendefährt in 2 Heats bei denen die gepaddelte Zeit(!) summiert wird (die Platzierung zählt NICHT). DieZeiten aus den 2 Heats werden addiert. Die schnellsten 5 qualifizieren sich für das A- Finale. DiePlätze 6 bis10 aus den 2 Heats starten im B- Finale. Finale wird nach Platzierung gewertet.Wertung/Ausführung in Abhängigkeit von Teilnehmerzahl. —————————————————————————Teilnahmegebühr 30 € pro Rennen\, 55 € für beide Rennen Sprint & TechRace\, TeamSUP kostenlos! Schüler €10 für beide.
URL:https://standupmagazin.com/de/sup-event/eckernfoerder-sup-sprottenrennen/
CATEGORIES:Germany
ATTACH;FMTTYPE=image/jpeg:https://standupmagazin.com/wp-content/uploads/2024/12/Sprotten-Rennen-Deutsche-Meisterschaft-Open-Water.webp
END:VEVENT
BEGIN:VEVENT
DTSTART;TZID=America/Denver:20261004T080000
DTEND;TZID=America/Denver:20261004T170000
DTSTAMP:20260420T145024
CREATED:20210108T145211Z
LAST-MODIFIED:20260221T000830Z
UID:26331-1791100800-1791133200@standupmagazin.com
SUMMARY:8. Maschsee SUP Cup
DESCRIPTION:ACHTUNG Infos noch von 2024 – Wir freuen uns wenn der Veranstalter uns ein Update schickt RENNEN:Auf der Langstrecke (Longdistance Race) über 10 km (2 Maschsee Runden) wird aufHardboards und iSUP´s bis 14“ für Damen\, Herren\, Masters und Junioren gestartet.In der FUN Klasse über ca. 5 km ( 1 Maschsee Runde) können alle SUP-Interessiertenteilnehmen. Dies ist eine offene Klasse nur für iSUP´s/ aufblasbare SUP bis 14“Mindestbreite 28“.Junioren paddeln 10 km\, gemeinsamer Start mit dem Hauptfeld der Longdistance.Die Jugend paddelt ca. 5 km (1 Maschsee Runde) alle SUPs bis 14“– keine Mindestbreite!(gemeinsamer Start mit der Fun Klasse).Schüler paddeln ca. 3 km\, einen verkürzten Rundkurs.  Wertungsklassen Maschsee Sup Cup :Offene Wertung : Damen und HerrenMasters Wertung erfolgt gesondert\,Masters Ü 50 \, Ü 60Eine Wertung kommt zu Stande\, wenn mindestens 5 Teilnehmer dieser Altersklasse am Start sindSchüler A: Sportler/Innen\, die im laufenden Kalenderjahr 13 oder 14 Jahre alt werden oder jüngersind.Jugend: Sportler/Innen\, die im laufenden Kalenderjahr 15 oder 16 Jahre alt werden.Junioren: Sportler/Innen\, die im laufenden Kalenderjahr 17 oder 18 Jahre alt werden.Der Veranstalter übernimmt keinerlei Haftung. Teilnehmer versichern mit ihrer Anmeldung\, dass siegesundheitlich und körperlich in der Lage sind\, die Wettkämpfe zu bestreiten. Das reguläre Startgeld beträgt: Erwachsene: 35\,- € pro Person\n\nKinder und Jugendliche unter 18 Jahren: 15\,- € pro PersonDen Überweisungsbeleg bitte zur Registrierung mitbringen\, damit wir den Abgleich schneller vornehmen können. Bitte die Meldegebühr vorab auf das Vereinskonto des HKC v. 1921 überweisen: Kontoinhaber: Hannoverscher Kanu Club v. 1921\n\nIBAN: DE09 2505 0180 0000 5142 33\n\nBIC: SPKHDE2HXXX\n\nVerwendungszweck: MASCHSEE SUP CUP 2022 + TeilnehmernameVeranstalter Info und Anmeldung
URL:https://standupmagazin.com/de/sup-event/3-maschsee-sup-cup-2021/
LOCATION:HKC v. 1921\, Karl Thiele Weg 20\, Hannover\, 30169\, Deutschland
CATEGORIES:Germany
ATTACH;FMTTYPE=image/jpeg:https://standupmagazin.com/wp-content/uploads/2021/01/maschsee-sup-cup-hannover.webp
END:VEVENT
BEGIN:VEVENT
DTSTART;TZID=Europe/Berlin:20261129T080000
DTEND;TZID=Europe/Berlin:20261129T170000
DTSTAMP:20260420T145024
CREATED:20241107T200454Z
LAST-MODIFIED:20251202T034411Z
UID:40293-1795939200-1795971600@standupmagazin.com
SUMMARY:Alster ICE Race
DESCRIPTION:ACHTUNG diese Info noch von 2025 Auf der Langstrecke (Longdistance Race) über 10 km wird für Damen\, Herren und Mastersgestartet. Die Junioren (Ü16) paddeln ebenfalls 10 km\, gemeinsamer Start mit demHauptfeld des Longdistance Races. In der FUN-Klasse über ca. 4\,5 km (eine verkürzte Longdistance Race Runde) können alle SUP-Interessierten und Race-Neulinge teilnehmen. Die Jugend (U16) paddelt ebenfalls die 4\,5km Strecke\, gemeinsamer Start mit der FUN-Klasse.Generell sind sowohl Hard- als auch aufblasbare SUP bis 14\,0 Fuß Länge. Alle Startserfolgen auf einer Startlinie stehend im Wasser. Offene Wertung: Damen\, Herren\, Masters Ü 50 + Ü 60\, Jugend U16. Eine Wertung kommt zuStande\, wenn mindestens fünf Teilnehmer dieser Altersklasse am Start sind.Der Veranstalter übernimmt keinerlei Haftung. Teilnehmer versichern mit ihrer Anmeldung\,dass sie gesundheitlich und körperlich in der Lage sind\, die Wettkämpfe zu bestreiten. STARTGELD:Erwachsene EUR 35\,00 pro PersonJugend U16 / Junioren Ü16 EUR 20\,00 pro Person  Anmeldung via E-Mail: alsterICErace@alster-canoe-club.de
URL:https://standupmagazin.com/de/sup-event/alster-ice-race/
CATEGORIES:Germany
ATTACH;FMTTYPE=image/jpeg:https://standupmagazin.com/wp-content/uploads/2024/11/alster-ice-race-2025.webp
END:VEVENT
END:VCALENDAR