BEGIN:VCALENDAR
VERSION:2.0
PRODID:-//Stand Up Magazin - ECPv6.10.2//NONSGML v1.0//EN
CALSCALE:GREGORIAN
METHOD:PUBLISH
X-WR-CALNAME:Stand Up Magazin
X-ORIGINAL-URL:https://standupmagazin.com
X-WR-CALDESC:Veranstaltungen für Stand Up Magazin
REFRESH-INTERVAL;VALUE=DURATION:PT1H
X-Robots-Tag:noindex
X-PUBLISHED-TTL:PT1H
BEGIN:VTIMEZONE
TZID:America/Denver
BEGIN:DAYLIGHT
TZOFFSETFROM:-0700
TZOFFSETTO:-0600
TZNAME:MDT
DTSTART:20240310T090000
END:DAYLIGHT
BEGIN:STANDARD
TZOFFSETFROM:-0600
TZOFFSETTO:-0700
TZNAME:MST
DTSTART:20241103T080000
END:STANDARD
END:VTIMEZONE
BEGIN:VEVENT
DTSTART;TZID=America/Denver:20241130T090000
DTEND;TZID=America/Denver:20241201T170000
DTSTAMP:20260424T111707
CREATED:20221025T104331Z
LAST-MODIFIED:20241105T002025Z
UID:31814-1732957200-1733072400@standupmagazin.com
SUMMARY:Last Paddler Standing
DESCRIPTION:Paddeln bis dir Luft ausgeht. In Sarasota\, Florida     Mit dem Laden der Karte akzeptieren Sie die Datenschutzerklärung von Google.Mehr erfahren  Karte laden   Google Maps immer entsperren    Mehr zum Konzept
URL:https://standupmagazin.com/de/sup-event/last-paddler-standing/
CATEGORIES:USA
ATTACH;FMTTYPE=image/jpeg:https://standupmagazin.com/wp-content/uploads/2022/10/last-paddler-standing-1.webp
END:VEVENT
END:VCALENDAR